BEGIN:VCALENDAR
VERSION:2.0
X-WR-TIMEZONE:Europe/Paris
PRODID:-//Audencia//NONSGML v1.0//EN
CALSCALE:GREGORIAN
BEGIN:VEVENT
SUMMARY:Saikasai summer festival & fireworks in Asaka, Japan
DTSTART:20190803T180000
DTEND:20190803T201500
UID:500
DTSTAMP:20260425T210010
LOCATION:Aobadai 1-2-3 Asaka-shi Préfecture de Saitama
DESCRIPTION:＜French follows Japanese＞\n\n暑い日が続きますが、皆さまいかがお過ごしでしょうか？\n夏祭りの季節が到来しましたね。\n埼玉県の朝霞では彩夏祭という夏祭があり、花火やよさこい踊りで有名です。せっかくの機会ですので、一緒に花火を楽しみましょう！メンバーはオーデンシアOB中心ですが、お知り合いも大歓迎です。子どもたちも参加予定です。\n\n●日時：8月3日（土）18:00～\n18:00 集合\n19:15 花火開始\n20:15 花火終了\n21:00 解散\n\n●場所：埼玉県朝霞市青葉台１－２－３（auショップ朝霞駐車場）\n東武東上線朝霞駅より徒歩5分\nhttps://www.au.com/aushop/shop.E-00656/\n\n●持ち物：食べ物と飲み物（アルコールOKです）\n\n●備考：場所取りのため、8月2日（金）までに参加の旨ご連絡もらえると嬉しいです。\nまた、花火前にも色々なイベントがありますので、そちらもお楽しみください！\nhttps://saikasai.com/\n\nご不明点があれば、上村沢雄まで遠慮なくご連絡ください。\nsawao1030@gmail.com\n070-1434-1151\n\nそれではお会いすること楽しみにしています。\n\nAudencia alumni Japan team\n\n——————————————-\n\nBonjour,\n\nMalgré la chaleur nous espérons que tout le monde se porte bien! La saison des festivals d'été est arrivée. Audencia alumni Japan team organise une sortie au festival d’été Saikasai à Asaka (tout au sud de la préfecture de Saitama). Au programme feux d’artifices et danses Yosakoi. C’est un événement family friendly donc n’hésitez pas à venir avec vos familles et amis.\n\n● Date et heure: \nSamedi 3 août\n18h00 Réunion\n19h15 Début du feu d'artifice\n20h15 Fin de feu d'artifice\n\n● Lieu: Aobadai 1-2-3 , Asaka-shi, Préfecture de Saitama. \nNous serons assis sur le parking devant la boutique de téléphonie « au », à 5 minutes à pied de la gare d'Asaka, ligne Tobu Tojo\nhttps://www.au.com/aushop/shop.E-00656/\n\n● Chacun apporte sa propre nourriture et boisson (alcool ok)\n\n● Remarques: \nMerci de nous confirmer votre présence avant le vendredi 2 août pour être sûr de réserver suffisamment de places.\n\nAussi, il y a d’autres événements avant le feu d’artifice donc n’hésitez pas à venir plus tôt dans la journée pour en profiter. Pour plus d’informations vous pouvez consulter ce site: https://saikasai.com/\n\nSi vous avez des questions, n'hésitez pas à contacter Sawao Uemura.\nE-mail: sawao1030@gmail.com\nTel: 070-1434-1151\n\nA très bientôt!\nAudencia alumni Japan team
BEGIN:VALARM
ACTION:DISPLAY
TRIGGER:-PT60M
DESCRIPTION:Saikasai summer festival & fireworks in Asaka, Japan
END:VALARM
END:VEVENT
END:VCALENDAR