BEGIN:VCALENDAR
VERSION:2.0
X-WR-TIMEZONE:Europe/Paris
PRODID:-//Audencia//NONSGML v1.0//EN
CALSCALE:GREGORIAN
BEGIN:VEVENT
SUMMARY:USA - AAGEF start-up tour
DTSTART:20170519T180000
DTEND:20170519T180000
UID:50
DTSTAMP:20260425T210204
LOCATION:North America
DESCRIPTION:As members of AAGEF we encourage you to apply for the Start Up Tour - the leading competition for French startups in North America!\n \n\nFor more information: http://startuptour.us/\n \n\n\nThe startup must meet at least two of the following criteria:\n\n\n	Be working on a new technology, product, or service, or an innovative application of an existing technology\n	Have a proof of concept, a prototype, scientific validation of your claim, or minimum viable product (MVP)\n	Be a team composed of two or more people working on the startup full-time\n	Have raised a maximum of $5M in angel and/or seed capital\n	Be working on a project that would have a significant impact on your target industry, and society or the environment in general\n	Still be in a growth phase\n\n\n\nIn addition, the startup must meet these mandatory criteria:\n\n\n	One of the startup's founders must be a French speaker\n	The startup must have a presence in the city in which they are competing at the local level, or plan to establish a presence there in the near future\n\n\n \n\n\nThe deadline for applications is 19th May\n\n\nBonne chance a tous les candidats Audencia!
BEGIN:VALARM
ACTION:DISPLAY
TRIGGER:-PT60M
DESCRIPTION:USA - AAGEF start-up tour
END:VALARM
END:VEVENT
END:VCALENDAR