BEGIN:VCALENDAR
VERSION:2.0
X-WR-TIMEZONE:Europe/Paris
PRODID:-//Audencia//NONSGML v1.0//EN
CALSCALE:GREGORIAN
BEGIN:VEVENT
SUMMARY:Webinar: People-centred change
DTSTART:20170322T140000
DTEND:20170322T150000
UID:5
DTSTAMP:20260425T223705
LOCATION:Online
DESCRIPTION:The Association of MBAs is pleased to announce a new FREE webinar for AMBA Members.\n\nStructures, systems, processes and strategies are relatively simple to understand and even fix. People, however, are more complex. Change can have a different impact on each of them, all of which can cause different attitudes and reactions. Join this webinar to discuss the importance of engaging people in organisational change and consider the approaches you can take for involving people in the co-creation of change.\n \nTo register for this free webinar please log on to the AMBA Community >>\n\nThis webinar is accessible to students or alumni of an AMBA-accredited programme at Audencia, i.e., Executive MBA, MBA in Responsible Management or Master in Management (Grande Ecole Programme), but registration is required. Registering as an alum of an AMBA-accredited programme takes only a few minutes. If you have any questions about your eligibility, or how to access the Community, please contact membership@mbaworld.com\n\nGo to www.mbaworld.com/communitysignup \n\n\n	complete your personal details\n	select ‘Graduate’ from the ‘I am a’ drop down\n	select your Business School\n	enter the following access key: G25912\n
BEGIN:VALARM
ACTION:DISPLAY
TRIGGER:-PT60M
DESCRIPTION:Webinar: People-centred change
END:VALARM
END:VEVENT
END:VCALENDAR