BEGIN:VCALENDAR
VERSION:2.0
X-WR-TIMEZONE:Europe/Paris
PRODID:-//Audencia//NONSGML v1.0//EN
CALSCALE:GREGORIAN
BEGIN:VEVENT
SUMMARY:Audencia-EDHEC afterwork in Hong Kong
DTSTART:20190725T190000
DTEND:20190725T220000
UID:499
DTSTAMP:20260425T205951
LOCATION:The Artist House Fashion Walk Kingston Street Causeway Bay Hong Kong
DESCRIPTION:Come and join alumni from Audencia and EDHEC for an informal afterwork on Thursday 25 July from 19:00 at the usual -great- hangout:\n\nThe Artist House, Fashion Walk, Kingston Street, Causeway Bay\n\nYour friendly photographer, Eugene, will be there to take pictures. Make sure your get your portrait taken while you're there!
BEGIN:VALARM
ACTION:DISPLAY
TRIGGER:-PT60M
DESCRIPTION:Audencia-EDHEC afterwork in Hong Kong
END:VALARM
END:VEVENT
END:VCALENDAR