BEGIN:VCALENDAR
VERSION:2.0
X-WR-TIMEZONE:Europe/Paris
PRODID:-//Audencia//NONSGML v1.0//EN
CALSCALE:GREGORIAN
BEGIN:VEVENT
SUMMARY:Rentrée des classes InterAlumni [Nantes]
DTSTART:20190911T183000
DTEND:20260425T205906
UID:498
DTSTAMP:20260425T205906
LOCATION:Hangar 32 32, quai des Antilles - Nantes
DESCRIPTION:\n\nIMPORTANT pour les participants :\nPrévoir absolument de la monnaie afin de pouvoir consommer sur place !\n(pas de distributeur à proximité / pas de CB ou chèque acceptés par les food truck)\nVous pouvez tout à fait apporter un pique-nique et ne rien consommer sur place.\n\n\nLes réseaux Alumni d'Audencia, Centrale Nantes, Centrale Paris-Supélec, Ecole de Design, EDHEC, Ensam Paris Tech, ESCP Europe, ESSEC, ESTP, HEC, IMT, Sciences Po,  vous convient à la 1ère édition de leur Rentrée des classes.\n \n\nMercredi 11 septembre à 18h30\nau Hangar 32\n\n INSCRIPTION EN CLIQUANT ICI \n\nCette soirée est la grande soirée de lancement du groupe InterAlumni Pays de la Loire. Une occasion unique de favoriser les échanges et d'élargir votre réseau !\n \nUn programme qui favorisera les rencontres :\n\n\n	18h30 : Accueil des participants & présentation de l'InterAlumni\n\n  \n\n\n	19h00 : Présentation du projet urbain de l'Ile de Nantes, par David Polinière (SAMOA)\n\nDavid Polinière, Responsable du Pôle Développement urbain à la SAMOA présentera le projet urbain de l’Ile de Nantes, un des plus grands chantiers urbains d'Europe, avec le parc des Chantiers, le Quartier de la Création, le Quartier République, la Prairie au Duc, le futur CHU…\n \n\n	20h00 - 22h00 : pique-nique et tournoi de jeux\n\n  \n\nInformations pratiques :\n\n\n	Soirée gratuite - inscription obligatoire\n	Présenter le billet Weezevent envoyé suite à l'inscription. Pour plus de facilité, il sera à nouveau envoyé la veille. Le QR code  sera à présenter au "Comité d'Accueil" pour recevoir un badge (obligatoire).\n	Pique-nique libre\n	3 Food-truck sur place :\n	- L'épicerie fine Mona (panières de Fromage et charcuterie, grignotage apéro, vin...)\n	 - Les Filles ont la Patate (pommes de terre garnies, pans bagnats, bière, soft, desserts maison...),\n	- Parfum de Crêpe (Galettes, crêpes, bière, cidre).\n\n\n\n​\n 
BEGIN:VALARM
ACTION:DISPLAY
TRIGGER:-PT60M
DESCRIPTION:Rentrée des classes InterAlumni [Nantes]
END:VALARM
END:VEVENT
END:VCALENDAR