BEGIN:VCALENDAR
VERSION:2.0
X-WR-TIMEZONE:Europe/Paris
PRODID:-//Audencia//NONSGML v1.0//EN
CALSCALE:GREGORIAN
BEGIN:VEVENT
SUMMARY:Conférence "Hacké.e, malgré moi !"
DTSTART:20190913T173000
DTEND:20190913T190000
UID:497
DTSTAMP:20260425T210045
LOCATION:Audencia, 8 route de la jonelière, Nantes
DESCRIPTION:La multiplication des virus, des vols de données ou des rançongiciels montre que les risques cybers sont en augmentation rapide. Par exemple en 2018, l’affaire Cambridge Analytica et Facebook a montré l’ampleur des risques pour les pays, les organisations et les individus. \nPendant longtemps, la réponse à ces menaces a consisté à développer des outils techniques permettant de protéger les réseaux, les outils informatiques, les systèmes d’information. Cependant, il est vite apparu que la réponse technique était nécessaire mais insuffisante pour se protéger des menaces cybers. \nEn effet, le maillon faible face aux menaces cybers provient souvent du comportement humain. En dépit des menaces importantes et croissantes, de nombreuses personnes protègent mal leurs outils électroniques ou leur navigation sur Internet. \n\nPour traiter de ce sujet brûlant, Audencia et l’Institut Kervegan vous invitent à une conférence-débat intitulée : Hacké.e, malgré moi ! \n\nAprès un rappel du contexte et des enjeux, nous expliquerons le comportement de cyber sécurité. Les thèmes abordés seront les suivants : \n•    Quelles sont les tendances concernant la cybersécurité?\n•    Comment expliquer la faiblesse du comportement de cyber sécurité ?\n•    Comment peut-on faire face à ces risques? \n\nAvec : \n\nBertrand Venard \nProfesseur à Audencia, titulaire de la Chaire Anti-Fraude et Cybersécurité*, Professeur à l'Université d'Oxford, Auditeur de l’IHEDN et de l’INHESJ\n\n* Partenaires des travaux de la Chaire Anti-Fraude et Cybersécurité :\nAudencia, Oxford University, Union Européenne, Conseil Régional des Pays de Loire, Ministère de l’Europe et des Affaires Etrangères, Anti-Corruption Commission du Bhoutan, Swiss Agency for Development and Cooperation.\n \n>> S'inscrire <<\n(gratuit, sur inscription)\n\nRenseignements : ﻿innovation@audencia.com﻿\n\n\n 
BEGIN:VALARM
ACTION:DISPLAY
TRIGGER:-PT60M
DESCRIPTION:Conférence "Hacké.e, malgré moi !"
END:VALARM
END:VEVENT
END:VCALENDAR