BEGIN:VCALENDAR
VERSION:2.0
X-WR-TIMEZONE:Europe/Paris
PRODID:-//Audencia//NONSGML v1.0//EN
CALSCALE:GREGORIAN
BEGIN:VEVENT
SUMMARY:Club Activités Culturelles - Visite guidée de l'exposition Toutânkhamon
DTSTART:20190914T113000
DTEND:20190914T130000
UID:496
DTSTAMP:20260425T205955
LOCATION:LA GRANDE HALLE DE LA VILLETTE
DESCRIPTION:Cinquante ans après « l’exposition du siècle » - qui avait réuni plus d’1,2 millions de visiteurs en 1967 à Paris - c’est une occasion unique de redécouvrir l’histoire du plus célèbre des Pharaons avant l’installation permanente des artefacts au sein du nouveau Grand Musée Égyptien actuellement en construction.\n\nPrésentée par le Ministère des Antiquités égyptiennes à la Grande Halle de la Villette, cette exposition immersive dévoilera plus de 150 objets originaux issus du tombeau. Plus de 50 pièces de cette collection voyageront pour la première et la dernière fois hors d’Égypte.\n\nVenez découvrir de nombreux objets personnels du jeune souverain qui l’ont accompagné dans les deux mondes que sont la vie et la mort.\n\n\nIl n'y a que 20 places. Alors, inscrivez-vous vite !
BEGIN:VALARM
ACTION:DISPLAY
TRIGGER:-PT60M
DESCRIPTION:Club Activités Culturelles - Visite guidée de l'exposition Toutânkhamon
END:VALARM
END:VEVENT
END:VCALENDAR