BEGIN:VCALENDAR
VERSION:2.0
X-WR-TIMEZONE:Europe/Paris
PRODID:-//Audencia//NONSGML v1.0//EN
CALSCALE:GREGORIAN
BEGIN:VEVENT
SUMMARY:Conseil d’Administration d'Audencia Alumni
DTSTART:20190711T200000
DTEND:20190711T220000
UID:495
DTSTAMP:20260425T205729
LOCATION:95 rue Falguière, 75015 Paris
DESCRIPTION:Chers membres du Conseil d’Administration\n \nNous vous prions de trouver votre convocation ainsi que l’ordre du jour du Conseil d’Administration d’Audencia Alumni qui se tiendra :\n \nle jeudi 11 juillet 2019 de 20H00 à 22H00\n \nau campus d’Audencia Paris, siège social de la société, 95 rue Falguière à Paris (75015).\n \n\n	Revue de l’avancement des commissions et des projets\n	Debriefing sur le Comité Stratégique\n	Activités du second semestre\n\n \nPrésidente du Conseil d’Administration d’Audencia Alumni\nFlavie Lorre\n 
BEGIN:VALARM
ACTION:DISPLAY
TRIGGER:-PT60M
DESCRIPTION:Conseil d’Administration d'Audencia Alumni
END:VALARM
END:VEVENT
END:VCALENDAR