BEGIN:VCALENDAR
VERSION:2.0
X-WR-TIMEZONE:Europe/Paris
PRODID:-//Audencia//NONSGML v1.0//EN
CALSCALE:GREGORIAN
BEGIN:VEVENT
SUMMARY:Défi Alumni - Triathlon Audencia La Baule - 21 septembre 2019
DTSTART:20190921T120000
DTEND:20190921T160000
UID:494
DTSTAMP:20260425T205838
LOCATION:La Baule
DESCRIPTION:Bonjour, \n\nNous avons le plaisir de vous inviter à prendre part au Challenge Audencia Alumni du 32ème Triathlon Audencia La Baule. \n\nIntégré au Tri Relais Grand Public, samedi 21 septembre, le Challenge Audencia Alumni récompensera dix équipes composées de diplômé(e)s et ami(e)s d’Audencia, au terme d’une épreuve sportive conviviale avec pour mot d’ordre l'esprit d’équipe.\n\nQue vous soyez nageur, cycliste ou coureur, venez-vous illustrer dans votre domaine de prédilection !\n\nEnvie de vous dépasser ou tout simplement de retrouver vos camarades Audenciens ? Nous vous offrons votre dossard et la chance unique de participer à un événement très prisé.\n \n\nInscrivez-vous rapidement :\n\n\n	Individuellement : dites-nous le sport que vous souhaitez faire et nous vous aiderons à rejoindre une équipe \n	A deux : nous vous aiderons à compléter votre équipe \n	A trois : votre groupe est complet, il ne vous reste plus qu’à attendre notre confirmation\n\n\nMerci de vous inscrire en cliquant sur le bouton ci-dessous, vous serez redirigé vers un formulaire à compléter pour valider votre inscription :\n\nINSCRIPTIONS\n\n\nN’oubliez pas que pour être valide, votre équipe doit être composée d’au moins deux diplômé(e)s d’Audencia. \n\nAu plaisir de vous retrouver très bientôt à La Baule,\n \n\nJérôme (MBA 06), Christian (GE 99) et Ulysse (étudiant)
BEGIN:VALARM
ACTION:DISPLAY
TRIGGER:-PT60M
DESCRIPTION:Défi Alumni - Triathlon Audencia La Baule - 21 septembre 2019
END:VALARM
END:VEVENT
END:VCALENDAR