BEGIN:VCALENDAR
VERSION:2.0
X-WR-TIMEZONE:Europe/Paris
PRODID:-//Audencia//NONSGML v1.0//EN
CALSCALE:GREGORIAN
BEGIN:VEVENT
SUMMARY:MBA networking event in Nantes
DTSTART:20190829T183000
DTEND:20190829T203000
UID:493
DTSTAMP:20260425T210115
LOCATION:The Forum at Audencia Atlantic Campus 8 route de la Joneliere 44312 Nantes
DESCRIPTION:Audencia is pleased to welcome EuroMBA participants to Nantes for their immersive residential week.\nIt is the perfect occasion to hold an MBA networking event for the school's full-time, executive and distance learning MBAs.\n\nIf you are a participant or an alum from Audencia's suite of MBA programmes, come and join the gathering:\n\n	Thursday 29 August\n	From 18:30\n	At the Forum on the Atlantic campus\n
BEGIN:VALARM
ACTION:DISPLAY
TRIGGER:-PT60M
DESCRIPTION:MBA networking event in Nantes
END:VALARM
END:VEVENT
END:VCALENDAR