BEGIN:VCALENDAR
VERSION:2.0
X-WR-TIMEZONE:Europe/Paris
PRODID:-//Audencia//NONSGML v1.0//EN
CALSCALE:GREGORIAN
BEGIN:VEVENT
SUMMARY:Afterwork in Singapore
DTSTART:20190711T180000
DTEND:20190711T220000
UID:492
DTSTAMP:20260425T205821
LOCATION:Supply and Demand 8 Raffles Avenue, #01-13 Esplanade Mall Singapore 039802
DESCRIPTION:\nCome and join Audencia alumni, students and friends for a relaxed afterwork:\n\nDate: 11 July 2019\nTime: 18:00-22:00 (or later if you like!)\nVenue: Supply and Demand\nAddress: 8 Raffles Avenue, #01-13 Esplanade Mall, Singapore 039802\n 
BEGIN:VALARM
ACTION:DISPLAY
TRIGGER:-PT60M
DESCRIPTION:Afterwork in Singapore
END:VALARM
END:VEVENT
END:VCALENDAR