BEGIN:VCALENDAR
VERSION:2.0
X-WR-TIMEZONE:Europe/Paris
PRODID:-//Audencia//NONSGML v1.0//EN
CALSCALE:GREGORIAN
BEGIN:VEVENT
SUMMARY:Webinar - Comment créer sa 1ère campagne de publicité Facebook et Instagram ?​
DTSTART:20190702T124500
DTEND:20190702T131500
UID:490
DTSTAMP:20260425T205719
LOCATION:
DESCRIPTION:Monsieur Lucien, fondé par Julien TOURME (Bachelor EAC 2008 - Bac+5 Sciences Com filière communication 2010), organise son 3e webinar !\n\n? Le 3e se déroulera le 2 juillet prochain de 12h45 à 13h15 !\n\n? Au programme : "Comment créer sa 1ère campagne de publicité Facebook et Instagram ?​"\n\n? Pour s'inscrire, c'est juste ici :\nhttp://bit.ly/formulaire-webinar-3-ML
BEGIN:VALARM
ACTION:DISPLAY
TRIGGER:-PT60M
DESCRIPTION:Webinar - Comment créer sa 1ère campagne de publicité Facebook et Instagram ?​
END:VALARM
END:VEVENT
END:VCALENDAR