BEGIN:VCALENDAR
VERSION:2.0
X-WR-TIMEZONE:Europe/Paris
PRODID:-//Audencia//NONSGML v1.0//EN
CALSCALE:GREGORIAN
BEGIN:VEVENT
SUMMARY:Speed-Meeting des Cultureux
DTSTART:20170518T193000
DTEND:20170518T223000
UID:49
DTSTAMP:20260425T205719
LOCATION:
DESCRIPTION:Chers Amis cultureux, \n\nEn ces périodes troubles électorales, seule la culture peut amener un peu d'espoir au moral des troupes...\nEt l'espoir, en ce qui nous concerne, vient donc des nouvelles têtes qui gonflent les rangs des cultureux audenciens, à savoir les étudiants de la majeure culturelle.\n\nComme vous le savez, ces étudiants viennent sur Paris depuis 2013 pour suivre un programme d'étude à l'Ecole du Louvre en mai. \n\nC'est dans ce cadre que nous organisons le Speed-Meeting des Cultureux le jeudi 18 mai à partir de 19h30 sur le campus Audencia Paris, pour d'ores-et-déjà nouer des liens nouveaux et anciens.\n\nVenez partager votre expérience dans les métiers de la culture et des médias avec les étudiants et échanger avec d'autres diplômés lors d'un speed meeting (démarrage à 20h) avec les 27 étudiants de la majeure culturelle.\n\nAu programme : visite guidée privée du Musée Delacroix à 18h (durée 1h30) pour les étudiants, nous avons quelques places pour les diplômés intéressés (inscrivez-vous ci-dessous)\nspeed meeting à 20h sur le campus Paris suivi d'un cocktail convivial\n \nInscription à la visite du Musée Delacroix : https://docs.google.com/forms/d/e/1FAIpQLSc0OKlMfnPTp37eTjbIThe13WogXA44VkvSXzqZJ3_n7Qmdgw/viewform?c=0&w=1\nAu plaisir de vous y voir nombreux! Dépêchez-vous, places limitées!!!\nCulturellement-et-managérialement vôtre,\n\nLes Anim's! 
BEGIN:VALARM
ACTION:DISPLAY
TRIGGER:-PT60M
DESCRIPTION:Speed-Meeting des Cultureux
END:VALARM
END:VEVENT
END:VCALENDAR