BEGIN:VCALENDAR
VERSION:2.0
X-WR-TIMEZONE:Europe/Paris
PRODID:-//Audencia//NONSGML v1.0//EN
CALSCALE:GREGORIAN
BEGIN:VEVENT
SUMMARY:Bastille Day celebrations in Shenzhen, China
DTSTART:20190713T180000
DTEND:20190713T235900
UID:489
DTSTAMP:20260425T205730
LOCATION:Residence G 4078 Dongbin Road, Nanshan District, Shenzhen 518054 深圳市南山区东滨路4078号
DESCRIPTION:French National Day 2019 in Shenzhen\n\nAs one of the most important annual events for both French and Chinese communities, the celebration of French National Day 2019 will be held at Residence G in Shenzhen from 18:00 to midnight on 13 July 2019. \n\n \nOn this occasion, Audencia Alumni is delighted to offer free tickets\n(usual cost 280RMB)\nto the first 10 alumni to register!\n\n\n\nAddress:\nResidence G\n4078 Dongbin Road, Nanshan District, Shenzhen 518054\n深圳市南山区东滨路4078号\n 
BEGIN:VALARM
ACTION:DISPLAY
TRIGGER:-PT60M
DESCRIPTION:Bastille Day celebrations in Shenzhen, China
END:VALARM
END:VEVENT
END:VCALENDAR