BEGIN:VCALENDAR
VERSION:2.0
X-WR-TIMEZONE:Europe/Paris
PRODID:-//Audencia//NONSGML v1.0//EN
CALSCALE:GREGORIAN
BEGIN:VEVENT
SUMMARY:Club Activités Culturelles - Visite de Cimetière du Père Lachaise
DTSTART:20190629T100000
DTEND:20190629T113000
UID:488
DTSTAMP:20260425T223812
LOCATION:Cimetière du Père Lachaise, 8 Boulevard de Ménilmontant, 75020 Paris
DESCRIPTION:Le Club Activités Culturelles vous invite à sa premère sortie culturelle sur Paris : une visite guidée de Cimetière du Père Lachaise.\n\nVenez découvrir ce lieu de recueillement à la fois fascinant et poétique, où se mêlent nature et art funéraire et où reposent de nombreuses célébrités.\n\nTenant compte des fortes températures et pour les éviter, cette visite est avancée à 10h au lieu de 11h. \nQuelques précisions pour cette visite :\n- Rendez-vous avec Flavie Lorre, Présidente d’Audencia Alumni, à 9h45 à la sortie du métro Gambetta\n- La visite démarrera du métro Gambetta à 10h pile\n- Cette visite dure 1h30\n- La fin de cette visite sera vers le métro Philippe Auguste\n- Pensez à vous équiper de chaussures confortables, d’une casquette et de bouteilles d’eau en quantité suffisante\n\nIl n'y a que 23 places. Alors, inscrivez-vous vite !
BEGIN:VALARM
ACTION:DISPLAY
TRIGGER:-PT60M
DESCRIPTION:Club Activités Culturelles - Visite de Cimetière du Père Lachaise
END:VALARM
END:VEVENT
END:VCALENDAR