BEGIN:VCALENDAR
VERSION:2.0
X-WR-TIMEZONE:Europe/Paris
PRODID:-//Audencia//NONSGML v1.0//EN
CALSCALE:GREGORIAN
BEGIN:VEVENT
SUMMARY:Afterwork in Seoul, Korea
DTSTART:20190626T193000
DTEND:20190626T220000
UID:487
DTSTAMP:20260425T205717
LOCATION:Côté Jardin 120 Bogwang-ro, Itaewon 1(il)-dong, Yongsan-gu Seoul
DESCRIPTION:Dear Audencians!\n\nThe venue for our next Audencia Alumni & Essec Alumni event is confirmed.\n\nWe will head back to “Côté Jardin”, the French restaurant in Itaewon. This time, we will be located in their beautiful garden to enjoy the evening.\n\nAddress: Côté Jardin, 120 Bogwang-ro, Itaewon 1(il)-dong, Yongsan-gu, Seoul\n\nSee you there at 19:30 on Wednesday 26 June!\n\nSiv Pheng
BEGIN:VALARM
ACTION:DISPLAY
TRIGGER:-PT60M
DESCRIPTION:Afterwork in Seoul, Korea
END:VALARM
END:VEVENT
END:VCALENDAR