BEGIN:VCALENDAR
VERSION:2.0
X-WR-TIMEZONE:Europe/Paris
PRODID:-//Audencia//NONSGML v1.0//EN
CALSCALE:GREGORIAN
BEGIN:VEVENT
SUMMARY:Atelier Carrière « Négocier son salaire »
DTSTART:20190711T181500
DTEND:20260425T205814
UID:485
DTSTAMP:20260425T205814
LOCATION:Audencia, 95 rue Falguière, 75015 Paris
DESCRIPTION:Les consultants coachs du Career Center d’Audencia vous proposent une soirée spéciale le jeudi 11 juillet sur le Campus Audencia Paris\nObjectif 1er Emploi !\n\nHoraires et Déroulement de la soirée \n\n\n	18h15 - 19h15 : Atelier carrière « Négocier son salaire »\n\nAudencia Careers vous propose un quiz pour tester vos connaissances sur la posture à adopter pour négocier votre salaire dans les meilleures conditions! Prêt(e)s à relever le challenge?\n \n\n	A partir de 20h : Cocktail\n\n \n\nModalités d'inscription  \nInscription avant le Vendredi 5 juillet. \n​Votre inscription confirme l’engagement de votre participation ! 
BEGIN:VALARM
ACTION:DISPLAY
TRIGGER:-PT60M
DESCRIPTION:Atelier Carrière « Négocier son salaire »
END:VALARM
END:VEVENT
END:VCALENDAR