BEGIN:VCALENDAR
VERSION:2.0
X-WR-TIMEZONE:Europe/Paris
PRODID:-//Audencia//NONSGML v1.0//EN
CALSCALE:GREGORIAN
BEGIN:VEVENT
SUMMARY:Atelier Carrière « Optimiser votre approche Réseau »
DTSTART:20190711T181500
DTEND:20260425T223838
UID:484
DTSTAMP:20260425T223838
LOCATION:Audencia, 95 rue Falguière, 75015 Paris
DESCRIPTION:Les consultants coachs du Career Center d’Audencia vous proposent une soirée spéciale le jeudi 11 juillet sur le Campus Audencia Paris\nObjectif 1er Emploi !\n\nHoraires et Déroulement de la soirée \n\n\n	18h15 - 19h15 : Atelier carrière « Optimiser votre approche Réseau »\n\nAudencia Careers vous conseille pour améliorer votre manière d'aborder la démarche réseau en partageant avec vous des conseils simples, émanant de professionnels du sujet tels que Daniel Porot et Steve Dalton. Vous bénéficierez d'astuces pour contacter des diplômés ainsi que tout autre professionnel. \n \n\n	A partir de 20h : Cocktail\n\n \n\nModalités d'inscription  \nInscription avant le Vendredi 5 juillet. \n​Votre inscription confirme l’engagement de votre participation ! \n\n\n> Inscription Atelier Carrière "Négocier son salaire"\n\n> Inscription Atelier Carrière "Organiser sa recherche d'emploi" 
BEGIN:VALARM
ACTION:DISPLAY
TRIGGER:-PT60M
DESCRIPTION:Atelier Carrière « Optimiser votre approche Réseau »
END:VALARM
END:VEVENT
END:VCALENDAR