BEGIN:VCALENDAR
VERSION:2.0
X-WR-TIMEZONE:Europe/Paris
PRODID:-//Audencia//NONSGML v1.0//EN
CALSCALE:GREGORIAN
BEGIN:VEVENT
SUMMARY:Atelier Carrière : Image et posture professionnelle, que raconte votre image ?
DTSTART:20190708T140000
DTEND:20190708T173000
UID:483
DTSTAMP:20260425T210146
LOCATION:95 rue Falguière 75015 PARIS
DESCRIPTION:Audencia Careers et Audencia Alumni vous propose un atelier dans le prolongement de la capsule Carrière du 13 juin.\nCelle-ci sera animée par Aude ROY conférencière, coach et formatrice​, elle accompagne les entreprises et les particuliers, dirigeants, cadres, étudiants en leur transmettant les codes adaptés à une posture professionnelle juste, crédible, stratégique et confortable.\n\n"Image et posture professionnelle, que raconte votre image ?"\n\nProgramme de l'atelier :\n- Mise en pratique de conseils personnalisés\n\n\n\nAude ROY, accompagne les entreprises et les particuliers, dirigeants, cadres, étudiants en leur transmettant les codes adaptés à une posture professionnelle juste, crédible, stratégique et confortable.\nElle est l"auteure de :"Maîtrisez votre image professionnelle" aux éditions Intereditions Dunod.\nPrésidente de l'association francophone de l'image et de la posture professionnelle, membre certifiée de l'EMCC, association européenne de coaching et synergologue.\n\n \nLundi 08 Juillet 2019\n14:00 – 17:30\nAUDENCIA BUSINESS SCHOOL\n95 RUE FALGUIERE 75015 PARIS\n\n\nInscriptions en haut à droite \nInformations complémentaires : audenciaalumni@audencia.com \nPlus d'informations sur Aude ROY, cliquez ici
BEGIN:VALARM
ACTION:DISPLAY
TRIGGER:-PT60M
DESCRIPTION:Atelier Carrière : Image et posture professionnelle, que raconte votre image ?
END:VALARM
END:VEVENT
END:VCALENDAR