BEGIN:VCALENDAR
VERSION:2.0
X-WR-TIMEZONE:Europe/Paris
PRODID:-//Audencia//NONSGML v1.0//EN
CALSCALE:GREGORIAN
BEGIN:VEVENT
SUMMARY:Afterwork in Barcelona, Spain
DTSTART:20190611T203000
DTEND:20190611T220000
UID:482
DTSTAMP:20260425T223707
LOCATION:La Cigale 50 Carrer de Tordera Barcelone
DESCRIPTION:The Spain alumni chapter is organising an event in Barcelona.\n\nCome and join Pauline Jaslet (GE 2014) for a networking evening on Tuesday 11 June from 20:30 at "La Cigale", 50 Carrer de Tordera, Barcelona
BEGIN:VALARM
ACTION:DISPLAY
TRIGGER:-PT60M
DESCRIPTION:Afterwork in Barcelona, Spain
END:VALARM
END:VEVENT
END:VCALENDAR