BEGIN:VCALENDAR
VERSION:2.0
X-WR-TIMEZONE:Europe/Paris
PRODID:-//Audencia//NONSGML v1.0//EN
CALSCALE:GREGORIAN
BEGIN:VEVENT
SUMMARY:Afterwork Audencia SciencesCom [Nantes]
DTSTART:20190704T183000
DTEND:20260425T223705
UID:481
DTSTAMP:20260425T223705
LOCATION:Le Point Bar 38, rue Lanoue Bras de Fer 44200 Nantes
DESCRIPTION:avec la présence de Sylvie Chancelier, Directrice d'Audencia SciencesCom\n\nNous sommes très heureux de tous vous convier, chers étudiants et diplômés d'Audencia SciencesCom, à l'afterwork du jeudi 4 juillet prochain à partir de 18h30.\n\nVous pourrez ainsi faire la connaissance de Laëtitia Caliez, votre nouveau contact Alumni, et dire au-revoir à Mélanie Bosc qui prend de nouvelles fonctions au sein d'Audencia.\n\nFaites passer le mot autour de vous, nous vous attendons nombreux !\n\n \n
BEGIN:VALARM
ACTION:DISPLAY
TRIGGER:-PT60M
DESCRIPTION:Afterwork Audencia SciencesCom [Nantes]
END:VALARM
END:VEVENT
END:VCALENDAR