BEGIN:VCALENDAR
VERSION:2.0
X-WR-TIMEZONE:Europe/Paris
PRODID:-//Audencia//NONSGML v1.0//EN
CALSCALE:GREGORIAN
BEGIN:VEVENT
SUMMARY:Dégustation de vin... TechnOelogique !
DTSTART:20170601T193000
DTEND:20170601T220000
UID:48
DTSTAMP:20260425T205721
LOCATION:Sciences Com 1, rue Marivaux - 44003 Nantes (près de la place Graslin)
DESCRIPTION:L'Heure Nantaise :\nvenez écouter, parler et goûter à la TechnOelogie !\n\nUn événement à la croisée de l'innovation, la RSE et le plaisir des papilles !\n\n\n\n\nVenez découvrir et mieux comprendre la biodynamie dans le vin, les différences avec le bio ou les méthodes traditionnelles ! Après une présentation de ces méthodes de viticulture biodynamique, une dégustation à l'aveugle vous attend.\n\n\nUne soirée très instructive en association avec :\n\nRémy Marrone (GE 12), secrétaire de La Vigne Numérique (http://www.lavignenumerique.org), qui promeut et met en oeuvre de nouveaux outils digitaux pour améliorer la performance de la filière vigneronne de la Loire.\n\n\n\nAude Beaupère, fondratrice de la start-up Vinibee et membre de la Vigne numérique,  commercialise exclusivement des vins bio et bio dynamiques en ligne. Elle expliquera et nous fera déguster sa sélection de vins bio et bio-dynamiques.\n\n\n\n \n- Nous vous attendons nombreux -\n\n\n 
BEGIN:VALARM
ACTION:DISPLAY
TRIGGER:-PT60M
DESCRIPTION:Dégustation de vin... TechnOelogique !
END:VALARM
END:VEVENT
END:VCALENDAR