BEGIN:VCALENDAR
VERSION:2.0
X-WR-TIMEZONE:Europe/Paris
PRODID:-//Audencia//NONSGML v1.0//EN
CALSCALE:GREGORIAN
BEGIN:VEVENT
SUMMARY:Dîner avec les Ambassadeurs de promo 2018
DTSTART:20190625T190000
DTEND:20190625T210000
UID:479
DTSTAMP:20260425T210029
LOCATION:Mangeaver, 32 boulevard Pasteur, 75015 Paris
DESCRIPTION:Flavie LORRE, Présidente d'Audencia Alumni, invite les Ambassadeurs de promo 2018 à dîner le mardi 25 juin.\n\nPlus d'infos seront publiées dans les meilleurs délais.
BEGIN:VALARM
ACTION:DISPLAY
TRIGGER:-PT60M
DESCRIPTION:Dîner avec les Ambassadeurs de promo 2018
END:VALARM
END:VEVENT
END:VCALENDAR