BEGIN:VCALENDAR
VERSION:2.0
X-WR-TIMEZONE:Europe/Paris
PRODID:-//Audencia//NONSGML v1.0//EN
CALSCALE:GREGORIAN
BEGIN:VEVENT
SUMMARY:Webinar - Quels contenus publier sur les réseaux sociaux ?
DTSTART:20190601T090000
DTEND:20190601T180000
UID:478
DTSTAMP:20260425T205900
LOCATION:
DESCRIPTION:Monsieur Lucien, fondé par Julien TOURME (Bachelor EAC 2008 - Bac+5 Sciences Com filière communication 2010), organise son 2e webinar !\n\n? Le 2e se déroulera le 4 juin prochain de 12h45 à 13h15 !\n\n? Au programme : "Quels contenus publier sur les réseaux sociaux ?"\n\n? Pour s'inscrire, c'est juste ici :\nhttps://bit.ly/2Kogscr
BEGIN:VALARM
ACTION:DISPLAY
TRIGGER:-PT60M
DESCRIPTION:Webinar - Quels contenus publier sur les réseaux sociaux ?
END:VALARM
END:VEVENT
END:VCALENDAR