BEGIN:VCALENDAR
VERSION:2.0
X-WR-TIMEZONE:Europe/Paris
PRODID:-//Audencia//NONSGML v1.0//EN
CALSCALE:GREGORIAN
BEGIN:VEVENT
SUMMARY:Club Culture & Management - La gamification de l'expérience culturelle, une transformation nécessaire ?
DTSTART:20190619T190000
DTEND:20190619T213000
UID:477
DTSTAMP:20260425T205725
LOCATION:Fondation d'entreprise Ricard  Rue Boissy d'Anglas, Paris
DESCRIPTION:La gamification est devenue en quelques années un concept incontournable dans le développement de l’attractivité et de l’accessibilité des lieux et produits culturels.\n\nChercher à intéresser le visiteur-consommateur en le divertissant, réfléchir à des expériences à vivre, transformer la consommation en parcours de jeu gratifiant… la manière de penser les offres culturelles se redéfinit pour attirer un public diversifié et exigeant.\n\nL’objectif de cette conférence est de faire un tour d’horizon des pratiques existantes, de questionner les apports de la gamification en termes économiques et stratégiques et d’explorer l’usage du numérique dans ces nouvelles propositions expérientielles.\n\n \n\n\n\n\n> Réserver\n\n \n\nAu plaisir de vous retrouver,\nL'équipe du club Culture & Management\n\n \n\nRappels pour le débat :\n\n\n	les débats commencent à 19h, l'accueil se fait à partir de 18h30.\n	pour le règlement sur place, la CB n'est pas acceptée, mais vous pouvez régler par chèque ou en espèces.\n	si vous bénéficiez d'un tarif spécial (tarif chômeur ou tarif étudiant à 15€), vous devrez nous présenter un justificatif de moins de 3 mois.\n
BEGIN:VALARM
ACTION:DISPLAY
TRIGGER:-PT60M
DESCRIPTION:Club Culture & Management - La gamification de l'expérience culturelle, une transformation nécessaire ?
END:VALARM
END:VEVENT
END:VCALENDAR