BEGIN:VCALENDAR
VERSION:2.0
X-WR-TIMEZONE:Europe/Paris
PRODID:-//Audencia//NONSGML v1.0//EN
CALSCALE:GREGORIAN
BEGIN:VEVENT
SUMMARY:Club Culture & Management : Afterwork de Juin
DTSTART:20190613T193000
DTEND:20190613T233000
UID:476
DTSTAMP:20260425T205857
LOCATION:Bar L'Ivress 5 rue Poissonnière, 75002 Paris
DESCRIPTION:Chers amis, \n\nJeudi 13 juin prochain, le Club Culture & Management est heureux de vous convier à son afterwork, l'occasion d'échanger ensemble autour d'un verre et de faire de nouvelles rencontres !\n\n- Nous vous accueillerons à partir de 19h30 au Bar L'Ivress\n- Adresse : 5 rue Poissonnière, 75002 Paris\n\nAu plaisir de vous y retrouver !\nL'équipe Culture & Management
BEGIN:VALARM
ACTION:DISPLAY
TRIGGER:-PT60M
DESCRIPTION:Club Culture & Management : Afterwork de Juin
END:VALARM
END:VEVENT
END:VCALENDAR