BEGIN:VCALENDAR
VERSION:2.0
X-WR-TIMEZONE:Europe/Paris
PRODID:-//Audencia//NONSGML v1.0//EN
CALSCALE:GREGORIAN
BEGIN:VEVENT
SUMMARY:Multi-network alumni conference & cocktail in London, UK
DTSTART:20190604T190000
DTEND:20190604T210000
UID:475
DTSTAMP:20260425T205814
LOCATION:Holiday Inn London Regents Park  Carburton St, Fitzrovia  W1W 5EE London
DESCRIPTION:The new silk roads at the heart of the power struggle between China and the United States\n\nKEDGE Alumni and it's well established London branch are inviting alumni from French Grandes Ecoles in London to a very special event.\n\nFor the first time in London, Kedge Alumni will host a two parts evening. You will have the chance to take part in a very interesting conference chaired by Laurent Estachy, Marc Mourre and Xavier Rolet, followed by a networking cocktail with the presence of José Milano (CEO of Kedge BS) and Christophe Mouysset (Kedge BS’s Director of Corporate Relations).\n\nConference Programme :\n\n7.00 pm: Registration and welcome drink\n7.15 pm: Brief introduction by Gregoire Ponsoye - London Branch Alumni organiser\n7.20 pm: Conference opening by José Milano, CEO Kedge Business School\n7.30 pm: Conference by Laurent Estachy, Marc Mourre & Xavier Rolet\n9.00 pm-10.00 pm: Cocktail and networking with speakers\n\nJoin us on Tuesday 4 June from 7pm.\nWe look forward to seeing you all for this special event\n \nREGISTER HERE\n\n 
BEGIN:VALARM
ACTION:DISPLAY
TRIGGER:-PT60M
DESCRIPTION:Multi-network alumni conference & cocktail in London, UK
END:VALARM
END:VEVENT
END:VCALENDAR