BEGIN:VCALENDAR
VERSION:2.0
X-WR-TIMEZONE:Europe/Paris
PRODID:-//Audencia//NONSGML v1.0//EN
CALSCALE:GREGORIAN
BEGIN:VEVENT
SUMMARY:Conversation in New York, USA
DTSTART:20190529T190000
DTEND:20190529T210000
UID:474
DTSTAMP:20260425T205720
LOCATION:The Pierre 2 East 61st Street New York, NY 10065
DESCRIPTION:From startup to public company \nJoin us at "The Pierre" on May 29 at 7pm to explore this fascinating subject. \n \nMany "unicorns" are due to hit the stock market this year and become public companies. What happens behind the scene to get ready for such an event, why does it mean for the company in terms of organization, culture and finances? Why are companies waiting longer and longer before they become public? What are the pros and cons of private vs. public? Renaud will talk about his experience at Tenable, a cybersecurity company that he co-founded 17 years ago and became public last year.\n \nWe look forward to seeing you there, \nThe AAGEF event team\nAssociation des Amis des Grandes Ecoles de France\nREGISTER HERE\n \n\n\nAbout our speakers: \nRenaud Deraison is chief technology officer of Tenable. Prior to co-founding Tenable, Renaud redefined the vulnerability management market by authoring Nessus, the world’s most widely deployed vulnerability scanner, with over one million downloads.\nNessus has received numerous awards, including being named one of the Most Critical Products of the Last 30 Years by SC Media, winning SANS Institute’s Best of 2015 Award for vulnerability assessment, and Network World Asia’s 2015 award for best vulnerability assessment and management product.\nRenaud continues to contribute to the global security community, including authoring several patents related to network scanning and security and publishing his work in a variety of respected books and magazines. In 2018, Renaud was recognized by SC Media as a Visionary of the Last 30 Years.\n \nErwan Keraudy is Chief Executive Officer of CybelAngel. Prior to co-founding CybelAngel, Erwan was Deputy Chief Investment Officer at SBI Funds Management Private Limited in Mumbai. Previously, Mr. Keraudy was a Credit Trader and Portfolio Manager at Societe Generale Asset Management. He started his career as Finance Credit Analyst at Natixis CIB. As a trader, Erwan was deeply attuned to the danger of free-floating confidential information. \nErwan is a Post Graduate in Economics from Manchester University and has earned an M.Sc. in Finance from ESCP Europe, Paris. He is an alumni of the Institut des Hautes Etudes de Defense Nationale with specific training on International Affairs and Strategic Intelligence. \nCybelAngel is a leading digital risk management platform providing enterprises with actionable threat intelligence that enables effective remediation and improved cybersecurity posture. By leveraging artificial intelligence and proven machine learning capabilities, to monitor, detect and manage digital risk across all layers of the Internet, CybelAngel helps organizations protect their intellectual property, brand, and reputation. Every day, CybelAngel detects data leaks that others don’t. To learn more, visit www.cybelangel.com 
BEGIN:VALARM
ACTION:DISPLAY
TRIGGER:-PT60M
DESCRIPTION:Conversation in New York, USA
END:VALARM
END:VEVENT
END:VCALENDAR