BEGIN:VCALENDAR
VERSION:2.0
X-WR-TIMEZONE:Europe/Paris
PRODID:-//Audencia//NONSGML v1.0//EN
CALSCALE:GREGORIAN
BEGIN:VEVENT
SUMMARY:AAGEF Grandes Ecoles regatta in New York, USA
DTSTART:20190616T140000
DTEND:20190616T180000
UID:473
DTSTAMP:20260425T210030
LOCATION:Battery Park city marina New York
DESCRIPTION:Ahoy !\n \nYou are invited to the AAGEF Regatta taking place on Sunday June 16 in downtown Manhattan. This fun amateur sailboat race is organised by the French Grandes Ecoles Alumni Association. 10 boats, each representing a French Grande Ecole, will race for 2 hours by Ellis Island out of Battery Park city marina. \n \nNo prior sailing experience is required as each boat comes with a sailing club skipper. The regatta will take place from 2pm to 4pm and will be followed by a networking cocktail on the Terrace of the Beaubourg Restaurant until 6pm. (Located 225 Liberty Street - in the District)\n \nA spectator sail boat will follow the regatta and offer magnificent vista of the race and of downtown Manhattan from 2 to 4pm. \n\nPrizes will be awarded to the winning team during the cocktail reception. \nAssemble your school’s alumni team now and provide names to your school representative on the AAGEF board. Last year’s event was sold out with a waiting list.  \n \nHere are the 3 options to participate. Links to register will be sent soon!\n \n•    Compete in the race (5 sailors per boat) + Cocktail: $200 early bird price per person until June 6 at midnight and $250 after.\n•    Join the spectator boat + Cocktail: $75 per person / $25 per kid (18 year old or less)\n•    Cocktail only: $25 per person\n \nWe hope to see you in this exciting sailing event.\nThe AAGEF team.\n \n 
BEGIN:VALARM
ACTION:DISPLAY
TRIGGER:-PT60M
DESCRIPTION:AAGEF Grandes Ecoles regatta in New York, USA
END:VALARM
END:VEVENT
END:VCALENDAR