BEGIN:VCALENDAR
VERSION:2.0
X-WR-TIMEZONE:Europe/Paris
PRODID:-//Audencia//NONSGML v1.0//EN
CALSCALE:GREGORIAN
BEGIN:VEVENT
SUMMARY:MOS - Conférence Sport & Citoyenneté - L’émancipation des filles à travers le sport
DTSTART:20190527T090000
DTEND:20190527T130000
UID:472
DTSTAMP:20260425T205844
LOCATION:Hôtel de Ville de Paris
DESCRIPTION:Sport & Citoyenneté, Partenaire du MOS, organise un colloque sur L’émancipation des filles à travers le sport: s’inspirer des bonnes pratiques dans le monde\n\nCette conférence aura lieu le lundi 27 mai à l'Hôtel de Ville de 9h à 13h.\n\nPour vous inscrire : https://bit.ly/2YFlAfV
BEGIN:VALARM
ACTION:DISPLAY
TRIGGER:-PT60M
DESCRIPTION:MOS - Conférence Sport & Citoyenneté - L’émancipation des filles à travers le sport
END:VALARM
END:VEVENT
END:VCALENDAR