BEGIN:VCALENDAR
VERSION:2.0
X-WR-TIMEZONE:Europe/Paris
PRODID:-//Audencia//NONSGML v1.0//EN
CALSCALE:GREGORIAN
BEGIN:VEVENT
SUMMARY:Afterwork in Sao Paulo, Brazil
DTSTART:20190523T200000
DTEND:20190523T210000
UID:471
DTSTAMP:20260425T210049
LOCATION:Botanico Bar R. Dep. Lacerda Franco, 344 - Pinheiros Sao Paulo Brazil
DESCRIPTION:They started connecting during Audencia Around the World and now alumni in Sao Paulo have organised a get-together for fellow classmates and friends.\n\nCome and join them on Thursday 23 May at 20:00 at the Botanico Bar (R. Dep. Lacerda Franco, 344 - Pinheiros)\n\nLooking forward to meeting you all - See you there ?\n\nMaud Razat (GE 17)\nUmesh Mukhi (IMM 10)
BEGIN:VALARM
ACTION:DISPLAY
TRIGGER:-PT60M
DESCRIPTION:Afterwork in Sao Paulo, Brazil
END:VALARM
END:VEVENT
END:VCALENDAR