BEGIN:VCALENDAR
VERSION:2.0
X-WR-TIMEZONE:Europe/Paris
PRODID:-//Audencia//NONSGML v1.0//EN
CALSCALE:GREGORIAN
BEGIN:VEVENT
SUMMARY:Afterwork in Brussels, Belgium
DTSTART:20190612T190000
DTEND:20190612T210000
UID:470
DTSTAMP:20260425T205902
LOCATION:Brewdog Putterie 20 1000 Brussels
DESCRIPTION:Alumna Valerie enjoyed organising her first afterwork in Brussels back in March that she's doing it again!\n\nSave the date and come and join her on Wednesday 12 June from 19:00 at:\nBrewdog\nPutterie 20\n1000 Brussels\n\n\n 
BEGIN:VALARM
ACTION:DISPLAY
TRIGGER:-PT60M
DESCRIPTION:Afterwork in Brussels, Belgium
END:VALARM
END:VEVENT
END:VCALENDAR