BEGIN:VCALENDAR
VERSION:2.0
X-WR-TIMEZONE:Europe/Paris
PRODID:-//Audencia//NONSGML v1.0//EN
CALSCALE:GREGORIAN
BEGIN:VEVENT
SUMMARY:Réception à la Résidence de l'Ambassade de France à Madrid, Espagne
DTSTART:20190617T193000
DTEND:20190617T213000
UID:469
DTSTAMP:20260425T205901
LOCATION:Résidence de l’Ambassade de France  Calle Serrano, 124 Madrid
DESCRIPTION:Comme tous les ans, l’équipe RAGEFE et moi-même avons le plaisir de vous annoncer l'ouverture des inscriptions pour participer à la Réception Annuelle des Alumni des Grandes Écoles Françaises en Espagne qui aura lieu le lundi 17 juin à partir de 19h30 à la Résidence de l’Ambassade de France (calle Serrano, 124, Madrid).\n \n \n\n\n \nCette année, les associations ou groupes d’Alumni représentés sont:\nSCIENCES PO, ESSEC, HEC, ESCP EUROPE, ARTS & MÉTIERS, ÉCOLE CENTRALE/SUPÉLEC, EDHEC, EM LYON, AUDENCIA, ÉCOLE POLYTECHNIQUE, ÉCOLE DES PONTS & CHAUSSÉES, UNIVERSITÉ PARIS DAUPHINE, ÉCOLE NATIONALE D’ADMINISTRATION (ENA) et ÉCOLE NORMALE SUP.\n \nSachant que le nombre d’invités est limité, je vous remercie de bien vouloir vous inscrire auprès de moi le plus tôt possible avec votre numéro de pièce d’identité (française ou espagnole, carte ou passeport), ainsi que votre formation (GE, EMP, etc) et année de diplôme.\n\nLes inscriptions sans indication du numéro de pièce d’identité et sans indication de la formation ne seront pas prises en compte.\n \nVeuillez bien noter que les invitations sont strictement personnelles, intransférables, et RESERVÉES aux Alumni. \n \nA bientôt,\nFrançois Blin\nfblin@bovemontero.com\n 
BEGIN:VALARM
ACTION:DISPLAY
TRIGGER:-PT60M
DESCRIPTION:Réception à la Résidence de l'Ambassade de France à Madrid, Espagne
END:VALARM
END:VEVENT
END:VCALENDAR