BEGIN:VCALENDAR
VERSION:2.0
X-WR-TIMEZONE:Europe/Paris
PRODID:-//Audencia//NONSGML v1.0//EN
CALSCALE:GREGORIAN
BEGIN:VEVENT
SUMMARY:Ftour à Rabat, Maroc
DTSTART:20190528T190000
DTEND:20190528T210000
UID:468
DTSTAMP:20260425T205955
LOCATION:Rabat - lieu à confirmer
DESCRIPTION:Bonjour à tous, \n\nComme à l’accoutumée, l’équipe Audencia Alumni Maroc organise son ftour annuel et vous invite à rompre le jeûne et de passer un moment convivial en compagnie des diplômés et étudiants de l’école résidents au Maroc. \n\nAprès une longue absence, nous retournons à Rabat pour cet événement qui se tiendra le mardi 28 mai prochain. Le lieu exact du ftour vous sera communiqué ultérieurement. \n\nPour cette édition, nous serons ravis de compter parmi nous Mme Marie-Françoise Marie-Nelly (GE 78), Directrice du Département Maghreb et Malte, Moyen-Orient et Afrique du Nord de la Banque Mondiale. Mme Marie-Nelly reviendra sur son parcours et s’exprimera sur une thématique autour du leadership.\n\nMerci de me faire parvenir vos inscriptions par message ou par mail (yassine.belhoussain@gmail.com) avant le vendredi 24 mai au plus tard. Les +1 sont bien évidemment les bienvenus.\n\nAu plaisir de vous voir nombreux à Rabat ! \n\nL’équipe AAM\n\nNote : Inscription obligatoire par message (yassine.belhoussain@gmail.com), la participation sur facebook n’est pas considérée comme validée! Événement payant, prévoir entre 300-400 dirhams par personne.
BEGIN:VALARM
ACTION:DISPLAY
TRIGGER:-PT60M
DESCRIPTION:Ftour à Rabat, Maroc
END:VALARM
END:VEVENT
END:VCALENDAR