BEGIN:VCALENDAR
VERSION:2.0
X-WR-TIMEZONE:Europe/Paris
PRODID:-//Audencia//NONSGML v1.0//EN
CALSCALE:GREGORIAN
BEGIN:VEVENT
SUMMARY:Audencia-Kedge-GEM alumni afterwork in Hong Kong
DTSTART:20190523T190000
DTEND:20190523T210000
UID:467
DTSTAMP:20260425T205859
LOCATION:Tai Lung Phung G/F 5 Hing Wan Street, Wanchai Hong Kong
DESCRIPTION:Come and join alumni from Audencia, Kedge and GEM for an informal afterwork on Thursday 23 May from 19:00\n\nVenue: Tai Lung Phung\nAddress: 灣仔慶雲街五號地下 G/F 5 Hing Wan Street, Wanchai, Hong Kong\n\nMore information on the HK alumni facebook page!
BEGIN:VALARM
ACTION:DISPLAY
TRIGGER:-PT60M
DESCRIPTION:Audencia-Kedge-GEM alumni afterwork in Hong Kong
END:VALARM
END:VEVENT
END:VCALENDAR