BEGIN:VCALENDAR
VERSION:2.0
X-WR-TIMEZONE:Europe/Paris
PRODID:-//Audencia//NONSGML v1.0//EN
CALSCALE:GREGORIAN
BEGIN:VEVENT
SUMMARY:CHANGE OF VENUE! Dinner with Audencia's Michelle Cristy in Tokyo, Japan
DTSTART:20190523T190000
DTEND:20190523T210000
UID:466
DTSTAMP:20260425T205856
LOCATION:Tikitiki Restaurant 3 Chome-4-8 Shinjuku Shinjuku-ku Tokyo-to
DESCRIPTION:CHANGE OF VENUE!\n\nInternational Relations Manager Michelle Cristy from Audencia will be visiting Japan from mid-May to take part to two student fairs in Osaka and Tokyo. We would like to welcome her with a diner on Thursday 23rd May.\n\nPlease find below the details and let us know if you can join (via the Japan alumni facebook page)\n\nDate: Thursday 23rd May\nTime: from 7pm \nThe venue has changed to the Tikitiki Restaurant\nAddress: 3 Chome-4-8 Shinjuku Shinjuku-ku Tokyo-to\n\nWebsite:  https://s.tabelog.com/en/tokyo/A1304/A130401/13000206/\n\nBudget: 2000-3000 yens\n\nLooking forward to seeing a lot of you at this event!\n\nYour audencia alumni japan team\n 
BEGIN:VALARM
ACTION:DISPLAY
TRIGGER:-PT60M
DESCRIPTION:CHANGE OF VENUE! Dinner with Audencia's Michelle Cristy in Tokyo, Japan
END:VALARM
END:VEVENT
END:VCALENDAR