BEGIN:VCALENDAR
VERSION:2.0
X-WR-TIMEZONE:Europe/Paris
PRODID:-//Audencia//NONSGML v1.0//EN
CALSCALE:GREGORIAN
BEGIN:VEVENT
SUMMARY:Club Culture & Management - Prix Innovation
DTSTART:20190523T180000
DTEND:20190523T220000
UID:463
DTSTAMP:20260425T205716
LOCATION:Ecole nationale des Beaux-Arts, 14, rue Bonaparte, 75006 Paris
DESCRIPTION:Chers amis audenciens,\n\nComme vous le savez, le Club Culture & Management organise depuis 4 ans le Prix Start-up en Scènes qui réunit chaque saison plus de 50 start-ups candidates des secteurs du Cinéma/ Audiovisuel, de l'Edition/ Presse, de la Musique, des Beaux-Arts/ Patrimoine et du Spectacle vivant.\n\nDans le cadre du lancement de la nouvelle saison du Prix, dont Audencia est partenaire, nous vous proposons de rencontrer plusieurs de nos lauréats et candidats des éditions passées lors d'une soirée festive.\n\nNous en profiterons pour vous faire part des nombreuses surprises de la nouvelle édition, qui s'annonce grandiose ! Alors réservez votre soirée du 23 mai, on compte sur vous !\n\nPour vous inscrire, cliquez ici.\n\n
BEGIN:VALARM
ACTION:DISPLAY
TRIGGER:-PT60M
DESCRIPTION:Club Culture & Management - Prix Innovation
END:VALARM
END:VEVENT
END:VCALENDAR