BEGIN:VCALENDAR
VERSION:2.0
X-WR-TIMEZONE:Europe/Paris
PRODID:-//Audencia//NONSGML v1.0//EN
CALSCALE:GREGORIAN
BEGIN:VEVENT
SUMMARY:Club Audencia Pour Elles - Dégustation du Vin
DTSTART:20190520T200000
DTEND:20190520T220000
UID:462
DTSTAMP:20260425T205850
LOCATION:Hôtel Vernet, 25 Rue Vernet, 75008 Paris
DESCRIPTION:La belle saison est là... et avec elle, une folle envie de légèrté !\n\nSophie ROULE (GE 01), créatrice du Club de Vins Féminin Involuté a le plaisir de vous convier à sa nouvelle soirée le lundi 20 mai sur le thème de "L'Insoutenable Légèrté de l'Etre... et du Vin"\n\nLors de cette dégustation, cnçue comme une balade sensorielle, il sera question de vins, d'émotions, dart et de légèerté... Un moment riche en échanges et en découvertes, féminin et décalé, à l'mage du Club Involuté !\n\nDégustation de 4 vins et 1 hampagne de vignerons en accords avec de petites bouchées élaborées par le Chef de l'Hôtel Vernet, Monsieur Richard Robe. 40 euros TTC/personne.\n\nPour vous inscrire, envoyez un email à sophieroule@orange.fr 
BEGIN:VALARM
ACTION:DISPLAY
TRIGGER:-PT60M
DESCRIPTION:Club Audencia Pour Elles - Dégustation du Vin
END:VALARM
END:VEVENT
END:VCALENDAR