BEGIN:VCALENDAR
VERSION:2.0
X-WR-TIMEZONE:Europe/Paris
PRODID:-//Audencia//NONSGML v1.0//EN
CALSCALE:GREGORIAN
BEGIN:VEVENT
SUMMARY:Lancement du Club "Communication & Media" et Conférence "Transformation numérique interne : où en sont les entreprises ?"
DTSTART:20190619T190000
DTEND:20190619T223000
UID:461
DTSTAMP:20260425T205725
LOCATION:Audencia Executive Campus, 95, rue Falguière, 75015 Paris
DESCRIPTION:Le Club Communication & Media fera ses premiers pas le mercredi 19 juin.\n\nA cette occasion une première conférence sera organisée "Transformation numérique interne : où en sont les entreprises ?" \nIntranet, espaces collaboratifs, réseau social interne, ChatOps… se déploient largement dans les organisations. Quels enjeux pour les entreprises ? Comment accompagner le déploiement des usages ? Quelles sont les bonnes pratiques pour conduire le changement ?\n \nCette conférence sera animée par Marie LEROY (SciencesCom 10) et Thomas MILLARD, Consultants en transformation digitale la société de conseil Arctus et portera sur les enjeux et tendances actuels du digital interne et s’appuiera sur les résultats de l'Observatoire Intranet et Digital Working 2019.\n\nCette conférence sera suivie d'un cocktail pour fêter le lancement du Club.\n\nInscrivez-vous ici.\n\nIntervenants :\n\n Marie LEROY (SciencesCom 10), Consultante en transformation digitale, Arctus\n\n Thomas MILLARD, Consultant en transformation digitale, Arctus
BEGIN:VALARM
ACTION:DISPLAY
TRIGGER:-PT60M
DESCRIPTION:Lancement du Club "Communication & Media" et Conférence "Transformation numérique interne : où en sont les entreprises ?"
END:VALARM
END:VEVENT
END:VCALENDAR