BEGIN:VCALENDAR
VERSION:2.0
X-WR-TIMEZONE:Europe/Paris
PRODID:-//Audencia//NONSGML v1.0//EN
CALSCALE:GREGORIAN
BEGIN:VEVENT
SUMMARY:Cercle des Dirigeants - Petit-Déjeuner "Handicap & Performance, du sport à l'entreprise"
DTSTART:20190606T083000
DTEND:20190606T140000
UID:460
DTSTAMP:20260425T205817
LOCATION:Hôtel Mercure Paris, 37, Place René Clair, 92100 Boulogne-Billancourt
DESCRIPTION:Chers membres,\nLe Cercle des Dirigeants a le plaisir de vous inviter à un nouveau format de rencontre : un petit-déjeuner débat exclusif, suivi des matchs de tennis-fauteuil à Roland-Garros.\n\n\nLors du petit-déjeuner, Florence Alix-Gravellier, médaillée des Jeux Paralympiques de Pékin en 2008 et Responsable du Pôle Audencia Alumni, nous fera le plaisir d'intervenir sur le thème « Handicap & Performance, du sport à l’entreprise ».\n\n\nPalmarès sportif :\n\n\n	Médaillée de bronze simple et double aux Jeux Paralympiques de Pékin en 2008\n	N°1 mondiale en double (2005) \n	N°2 mondiale en simple (2005) \n\nParcours professionnel : \nDe 2010 à 2017 chez Adecco Group :\n\n	Responsable des Relations Ecoles et Partenariats Institutionnels\n	Responsable des Relations Extérieures & Sponsoring\n	Responsable du Pôle Handicap\n\nDiplômée de l’Institut d’Etudes Politiques de Bordeaux (promo 1999)\n \n\n	\n		\n			\n			\n				\n					\n						Pour des raisons d'organisation, nous vous invitons à répondre à ce message dans les prochaines 48 heures avec votre choix :\n\n						\n							Choix A : le petit-déjeuner + une place pour Roland-Garros\n							Choix B : le petit-déjeuner\n						\n						Nous vous attendons nombreux.\n						\n						Bien à vous,\n						Le Cercle des Dirigeants\n						\n						 \n						Ambassadeurs du Cercles des Dirigeants d'Audencia\n\n						\n						\n						Sébastien Rouzaire (GE 91), Président Fondateur de Kerius Finance (www.kerius-finance.com), société indépendante de conseil et service spécialisée en gestion et couverture des risques de change, taux d’intérêts et matières premières.\n\n						\n						\n						\n\n						\n						Philippe Serzec (GE 92), Associé Deloitte Transaction Services, département spécialisé en due diligence financière d’acquisition et de cession, en charge des ETI et PME.\n\n						 \n\n						 \n\n						Le Cercle des Dirigeants Audencia est une initiative d’Audencia Alumni, réseau des diplômés d’Audencia Nantes. L'objectif du Cercle est de rassembler les diplômés de plus de 15 ans d'expérience, occupant un poste de dirigeant ou de direction dans leur entreprise. Les réunions sont organisées chaque année autour de thèmes variés et d’une formule conférence/cocktail dans le but de partager des problématiques communes et développer le réseau relationnel professionnel entre diplômés Audencia.\n						 \n						Rejoindre Le Cercle des Dirigeants sur LinkedIn\n					\n				\n			\n			\n		\n	\n
BEGIN:VALARM
ACTION:DISPLAY
TRIGGER:-PT60M
DESCRIPTION:Cercle des Dirigeants - Petit-Déjeuner "Handicap & Performance, du sport à l'entreprise"
END:VALARM
END:VEVENT
END:VCALENDAR