BEGIN:VCALENDAR
VERSION:2.0
X-WR-TIMEZONE:Europe/Paris
PRODID:-//Audencia//NONSGML v1.0//EN
CALSCALE:GREGORIAN
BEGIN:VEVENT
SUMMARY:Table ronde d’entre deux tours « Quelle société pour la France de demain ?
DTSTART:20170428T170000
DTEND:20170428T210000
UID:46
DTSTAMP:20260425T223811
LOCATION:AUDENCIA CAMPUS_PARIS  95 Rue Falguière 75015 PARIS
DESCRIPTION:À la veille des élections présidentielles, Audencia prend la parole.\n\nLes élections présidentielles 2017 marquent un tournant en ce qu’elles détermineront le modèle de société dans laquelle la France s’engagera.\n \n\nCette table ronde d'entre deux tours s’inscrit dans le cadre de la démarche unique d’Audencia fondée sur 4 ancrages fondamentaux :\n\n \n\n• Innovation et Inﬂuence : Audencia inscrit la RSE dans le marbre de l’économie française.\n• Humanisme : Audencia intègre l’épanouissement personnel dans le parcours professionnel.\n• Hybridation : Audencia délivre une expertise multi-compétences notamment sous la forme de double diplômes.\n• Excellence : Audencia garantit des contenus pédagogiques et des campus internationaux conçus sur les critères de qualité les plus élevés.\n\nParticipants à la conférence :\n\n• Dominique BILLIER, Audencia Business School, Iségoria\n• Bruno CAUTRÈS, CEVIPOF, Sciences-Po Paris, Policy proposition and political engagement\n• Valerie CLAUDE-GAUDILLAT, Audencia Business School, Innovation and its place in candidates’ programs\n• Jeremy GHEZ, HEC Paris, Geo-politics\n• Karolina KOC-MICHALSKA, Audencia Business School, Digital media in campaigning\n• Tomasz MICHALSKI, HEC Paris, Economy\n• Emeric PEYREDIEU DU CHARLAT, Audencia Business School, DG Audencia\n• Andre SOBCZAK, Audencia Business School, Corporate social responsibility in politics and political programs\n• Thierry VEDEL, CEVIPOF Sciences-Po Paris, Electoral campaign\n• Thomas VITIELLO, CEVIPOF Sciences-Po Paris, La Boussole\n\n\n \nINSCRIPTION OBLIGATOIRE (nombre de places limité) : cliquez ici
BEGIN:VALARM
ACTION:DISPLAY
TRIGGER:-PT60M
DESCRIPTION:Table ronde d’entre deux tours « Quelle société pour la France de demain ?
END:VALARM
END:VEVENT
END:VCALENDAR