BEGIN:VCALENDAR
VERSION:2.0
X-WR-TIMEZONE:Europe/Paris
PRODID:-//Audencia//NONSGML v1.0//EN
CALSCALE:GREGORIAN
BEGIN:VEVENT
SUMMARY:Conférence "L’entrepreneuriat social à l’ère du numérique" [Nantes]
DTSTART:20190509T183000
DTEND:20190509T200000
UID:458
DTSTAMP:20260425T205736
LOCATION:MEDIACAMPUS 41 bd de la prairie au duc sur l’île de Nantes Salles forum 149 et 150
DESCRIPTION: \n\nConférence de Stéphane de Freitas\n\nArtiste français, réalisateur et entrepreneur social, Stéphane de Freitas est le concepteur des programmes de prise de parole Eloquentia, réalisateur du très remarqué film documentaire « A voix haute ». Au cours de cette conférence témoignage, il abordera les enjeux spécifiques de l’entreprenariat social en prenant l’exemple du réseau social d'entraide Indigo qu’il a créé.\n\n \n\n	Auteur de : Porter sa voix - S'affirmer par la parole \n	Réalisateur des Films : À voix haute : La Force de la parole\n	Nominations : César du meilleur film documentaire\n\n \n\n
BEGIN:VALARM
ACTION:DISPLAY
TRIGGER:-PT60M
DESCRIPTION:Conférence "L’entrepreneuriat social à l’ère du numérique" [Nantes]
END:VALARM
END:VEVENT
END:VCALENDAR