BEGIN:VCALENDAR
VERSION:2.0
X-WR-TIMEZONE:Europe/Paris
PRODID:-//Audencia//NONSGML v1.0//EN
CALSCALE:GREGORIAN
BEGIN:VEVENT
SUMMARY:Webinar - Comment utiliser LinkedIn pour développer son activité ?
DTSTART:20190507T124500
DTEND:20190507T131500
UID:456
DTSTAMP:20260425T205955
LOCATION:
DESCRIPTION:Monsieur Lucien, fondé par Julien TOURME (Bachelor EAC 2008 - Bac+5 Sciences Com filière communication 2010), lance ses webinars !\n\n? Le 1er se déroulera le 7 Mai prochain de 12h45 à 13h15 !\n\n? Au programme : "Comment utiliser LinkedIn pour développer son activité ?"\n\n? Pour s'inscrire, c'est juste ici :\nhttps://bit.ly/2GNYlc9
BEGIN:VALARM
ACTION:DISPLAY
TRIGGER:-PT60M
DESCRIPTION:Webinar - Comment utiliser LinkedIn pour développer son activité ?
END:VALARM
END:VEVENT
END:VCALENDAR