BEGIN:VCALENDAR
VERSION:2.0
X-WR-TIMEZONE:Europe/Paris
PRODID:-//Audencia//NONSGML v1.0//EN
CALSCALE:GREGORIAN
BEGIN:VEVENT
SUMMARY:Club ARMs - Tournoi de 7s de flag
DTSTART:20190630T090000
DTEND:20190630T180000
UID:455
DTSTAMP:20260425T205843
LOCATION:Meudon
DESCRIPTION:Le Club Audencia Rugby Management (ARMs) vous invite au Tournoi de 7s de flag, tournoi « rugby social » dont tous les fonds reviendront à l’association ABO (A Bras Ouverts - organisation de week-ends pour les enfants handicapés), à Meudon le dimanche 30 juin.\n\nLes détails précis viendront plus tard.\n\n
BEGIN:VALARM
ACTION:DISPLAY
TRIGGER:-PT60M
DESCRIPTION:Club ARMs - Tournoi de 7s de flag
END:VALARM
END:VEVENT
END:VCALENDAR