BEGIN:VCALENDAR
VERSION:2.0
X-WR-TIMEZONE:Europe/Paris
PRODID:-//Audencia//NONSGML v1.0//EN
CALSCALE:GREGORIAN
BEGIN:VEVENT
SUMMARY:Club ARMs - Trophée Roger Blachon
DTSTART:20190629T090000
DTEND:20190629T180000
UID:454
DTSTAMP:20260425T210029
LOCATION:A préciser
DESCRIPTION:Le Club Audencia Rugby Management (ARMs) vous invite au Trophée Roger Blachon, des matchs (féminin et masculin) commerciaux vs. ingénieurs, seront organisés par le LARGE (Ligue des Anciens Rugbymen/women des Grandes Ecoles), sur le terrain de rugby du club d'Orsay le samedi 29 juin.\n\nLes détails précis viendront plus tard.\n\n\n\n\n\n\n\n\n\n 
BEGIN:VALARM
ACTION:DISPLAY
TRIGGER:-PT60M
DESCRIPTION:Club ARMs - Trophée Roger Blachon
END:VALARM
END:VEVENT
END:VCALENDAR