BEGIN:VCALENDAR
VERSION:2.0
X-WR-TIMEZONE:Europe/Paris
PRODID:-//Audencia//NONSGML v1.0//EN
CALSCALE:GREGORIAN
BEGIN:VEVENT
SUMMARY:AMBA Connect in Paris, France
DTSTART:20190606T183000
DTEND:20190606T213000
UID:452
DTSTAMP:20260425T205901
LOCATION:Conservatoire National Des Arts Et Métiers 292 Rue Saint-Martin Access 7 - Room: "Salle des Textiles" 75003 Paris
DESCRIPTION:Did you graduate from an AMBA-accredited programme at Audencia?\n\nAlumni from Audencia's Grande Ecole and MBA (full-time, executive part-time & EuroMBA) programmes are invited by AMBA, the Association of MBAs for an evening of networking and relationship-building in Paris with students and alumni of AMBA-accredited programmes.\n \nRegister for free today >>\n\nThis event is free for students and graduates of AMBA-accredited programmes but online registration is required.\n\n \nThursday 6 June 2019\n18:30-21:30\nConservatoire National Des Arts Et Métiers\n292 Rue Saint-Martin, 75003 Paris\n\nProgramme\n18:30-19:00 Registration Opens\n19:00-19:05 Welcome \n19:05-19:30 Ice Breaker \n19:30-20:30 Speaker session\n20:30-20:50 AMBA Membership Presentation\n20:50-21:30 Networking and refreshments\n\nContact\nFor more information about the event, please contact Zoë Milanovic, Events Executive\n+44 (0) 20 7246 2694\nz.milanovic@associationofmbas.com\n\nAMBA Membership\nStudents and graduates of AMBA-accredited programmes are eligible for free AMBA membership, which provides a range of exclusive benefits.\nIf you have not activated your free AMBA membership, registering for this event and selecting 'Yes' in the 'Are you interested in AMBA membership question' you agree for AMBA to automatically activate your free membership (depending on eligibility) following the event and to begin receiving membership communications.\n\nIf you have any questions about AMBA membership please visit www.mbaworld.com/membership or contact the team via membership@associationofmbas.com
BEGIN:VALARM
ACTION:DISPLAY
TRIGGER:-PT60M
DESCRIPTION:AMBA Connect in Paris, France
END:VALARM
END:VEVENT
END:VCALENDAR