BEGIN:VCALENDAR
VERSION:2.0
X-WR-TIMEZONE:Europe/Paris
PRODID:-//Audencia//NONSGML v1.0//EN
CALSCALE:GREGORIAN
BEGIN:VEVENT
SUMMARY:Afterwork in Boston, USA
DTSTART:20190625T183000
DTEND:20190625T200000
UID:451
DTSTAMP:20260425T205735
LOCATION:Boston Park Plaza Hotel 50 Park Plaza Boston MA 02116, USA
DESCRIPTION:Audencia is coming to Boston!\n\nCareers consultant Catherine Chassanite is attending a conference in the beautiful city of Boston and would like to take this opportunity to connect (or re-connect) with alumni, students and friends of Audencia.\n\nJoin Catherine for an informal drink at 18:30 on Tuesday 25 June at the Boston Park Plaza Hotel, and catch up with all the latest news from Audencia.\n 
BEGIN:VALARM
ACTION:DISPLAY
TRIGGER:-PT60M
DESCRIPTION:Afterwork in Boston, USA
END:VALARM
END:VEVENT
END:VCALENDAR