BEGIN:VCALENDAR
VERSION:2.0
X-WR-TIMEZONE:Europe/Paris
PRODID:-//Audencia//NONSGML v1.0//EN
CALSCALE:GREGORIAN
BEGIN:VEVENT
SUMMARY:MBA networking event in Nantes
DTSTART:20190426T183000
DTEND:20190426T203000
UID:450
DTSTAMP:20260425T210009
LOCATION:Audencia Executive Centre - Geraudière rue Pierre Adolphe Bobierre 44000 Nantes
DESCRIPTION:EuroMBA participants and alumni in Nantes are invited to join current MBA students for an afterwork gathering!\n \nWhen: Friday 26 of April\nWhere: AUDENCIA EXECUTIVE CENTER\nTime: 6:30 pm\n \nPlease register here before the 18th of April to confirm your presence.\n 
BEGIN:VALARM
ACTION:DISPLAY
TRIGGER:-PT60M
DESCRIPTION:MBA networking event in Nantes
END:VALARM
END:VEVENT
END:VCALENDAR