BEGIN:VCALENDAR
VERSION:2.0
X-WR-TIMEZONE:Europe/Paris
PRODID:-//Audencia//NONSGML v1.0//EN
CALSCALE:GREGORIAN
BEGIN:VEVENT
SUMMARY:Soirée Club Business : "Développer sa clientèle grâce au networking"
DTSTART:20170530T193000
DTEND:20170530T223000
UID:45
DTSTAMP:20260425T223839
LOCATION:Campus Audencia Paris - 95 rue Falguière - 75015 Paris
DESCRIPTION:Le Club Business est heureux de vous retrouver pour sa prochaine conférence « Développer sa clientèle grâce au networking ». \n\nUtile pour les professionnels de tous secteurs d’activité et de tous âges, cette conférence sera l’occasion d’échanger autour des différentes techniques (recommandations, anticipation des appels d’offres, réseautage avec les décideurs et anciens collègues, maîtrise des réseaux sociaux, etc.) permettant de maximiser son retour sur investissement commercial grâce au networking.\n\nResponsable du Développement chez Alerion, Maxime Maeght est l'auteur de deux ouvrages sur le networking; « Le Guide du networking pour développer votre clientèle (à l’usage des professions du conseil) » paru en mai 2015 et « Etudiants, jeunes professionnels : comment construire votre réseau » paru en avril 2016.\n\nDéroulé de la soirée :\n19h30 -19h45 : accueil des participants\n19h45 : tour de table et début de la conférence\nAu programme :\n\n\n	Savoir se rendre utile\n	Maximiser les prescriptions\n	Anticiper les appels d’offres\n	Accroître sa visibilité\n	Entretenir son carnet d’adresses\n	Mesurer son potentiel et sa progression\n\n\n21h30-22h30 : Cocktail\n\nAu plaisir de vous accueillir nombreux.
BEGIN:VALARM
ACTION:DISPLAY
TRIGGER:-PT60M
DESCRIPTION:Soirée Club Business : "Développer sa clientèle grâce au networking"
END:VALARM
END:VEVENT
END:VCALENDAR