BEGIN:VCALENDAR
VERSION:2.0
X-WR-TIMEZONE:Europe/Paris
PRODID:-//Audencia//NONSGML v1.0//EN
CALSCALE:GREGORIAN
BEGIN:VEVENT
SUMMARY:Afterwork in Sao Paulo, Brazil
DTSTART:20190502T190000
DTEND:20190502T203000
UID:449
DTSTAMP:20260425T223738
LOCATION:Patio SP  Rua Mourato Coelho 1272 - Vila Madalena  São Paulo SP 05417-002
DESCRIPTION:Join the MSc FAM class for an afterwork in Sao Paulo!\n\nBefore they head back to France, students from the Food and Agribusiness programme are organising a farewell afterwork.\n\nJoin them on Thursday 2 May from 19:00 at:\n\n\n	The Patio SP bar\n	Rua Mourato Coelho, 1272 - Vila Madalena, São Paulo\n
BEGIN:VALARM
ACTION:DISPLAY
TRIGGER:-PT60M
DESCRIPTION:Afterwork in Sao Paulo, Brazil
END:VALARM
END:VEVENT
END:VCALENDAR